BEGIN:VCALENDAR
VERSION:2.0
PRODID:-//The Air Force JAG School Foundation - ECPv6.15.20//NONSGML v1.0//EN
CALSCALE:GREGORIAN
METHOD:PUBLISH
X-WR-CALNAME:The Air Force JAG School Foundation
X-ORIGINAL-URL:https://jagschoolfoundation.org
X-WR-CALDESC:Events for The Air Force JAG School Foundation
REFRESH-INTERVAL;VALUE=DURATION:PT1H
X-Robots-Tag:noindex
X-PUBLISHED-TTL:PT1H
BEGIN:VTIMEZONE
TZID:America/New_York
BEGIN:DAYLIGHT
TZOFFSETFROM:-0500
TZOFFSETTO:-0400
TZNAME:EDT
DTSTART:20210314T070000
END:DAYLIGHT
BEGIN:STANDARD
TZOFFSETFROM:-0400
TZOFFSETTO:-0500
TZNAME:EST
DTSTART:20211107T060000
END:STANDARD
BEGIN:DAYLIGHT
TZOFFSETFROM:-0500
TZOFFSETTO:-0400
TZNAME:EDT
DTSTART:20220313T070000
END:DAYLIGHT
BEGIN:STANDARD
TZOFFSETFROM:-0400
TZOFFSETTO:-0500
TZNAME:EST
DTSTART:20221106T060000
END:STANDARD
BEGIN:DAYLIGHT
TZOFFSETFROM:-0500
TZOFFSETTO:-0400
TZNAME:EDT
DTSTART:20230312T070000
END:DAYLIGHT
BEGIN:STANDARD
TZOFFSETFROM:-0400
TZOFFSETTO:-0500
TZNAME:EST
DTSTART:20231105T060000
END:STANDARD
BEGIN:DAYLIGHT
TZOFFSETFROM:-0500
TZOFFSETTO:-0400
TZNAME:EDT
DTSTART:20240310T070000
END:DAYLIGHT
BEGIN:STANDARD
TZOFFSETFROM:-0400
TZOFFSETTO:-0500
TZNAME:EST
DTSTART:20241103T060000
END:STANDARD
END:VTIMEZONE
BEGIN:VEVENT
DTSTART;TZID=America/New_York:20230410T080000
DTEND;TZID=America/New_York:20230410T170000
DTSTAMP:20260423T075118
CREATED:20221208T170436Z
LAST-MODIFIED:20230227T173538Z
UID:336-1681113600-1681146000@jagschoolfoundation.org
SUMMARY:Test Event 2
DESCRIPTION:Sample description for test event 2.
URL:https://jagschoolfoundation.org/event/test-event-2/
END:VEVENT
BEGIN:VEVENT
DTSTART;TZID=America/New_York:20221230T080000
DTEND;TZID=America/New_York:20221230T170000
DTSTAMP:20260423T075118
CREATED:20221208T170040Z
LAST-MODIFIED:20221208T170107Z
UID:332-1672387200-1672419600@jagschoolfoundation.org
SUMMARY:Test Event
DESCRIPTION:Demo description of test event
URL:https://jagschoolfoundation.org/event/test-event/
ATTACH;FMTTYPE=image/jpeg:https://jagschoolfoundation.org/wp-content/uploads/2022/12/placeholder-event.jpg
END:VEVENT
END:VCALENDAR